BEGIN:VCALENDAR
VERSION:2.0
PRODID:-//IBEW 1289 - ECPv6.15.20//NONSGML v1.0//EN
CALSCALE:GREGORIAN
METHOD:PUBLISH
X-WR-CALNAME:IBEW 1289
X-ORIGINAL-URL:https://local1289ibew.org
X-WR-CALDESC:Events for IBEW 1289
REFRESH-INTERVAL;VALUE=DURATION:PT1H
X-Robots-Tag:noindex
X-PUBLISHED-TTL:PT1H
BEGIN:VTIMEZONE
TZID:UTC
BEGIN:STANDARD
TZOFFSETFROM:+0000
TZOFFSETTO:+0000
TZNAME:UTC
DTSTART:20230101T000000
END:STANDARD
END:VTIMEZONE
BEGIN:VEVENT
DTSTART;TZID=UTC:20241120T170000
DTEND;TZID=UTC:20241120T170000
DTSTAMP:20260423T082207
CREATED:20241121T030713Z
LAST-MODIFIED:20241121T030713Z
UID:1327-1732122000-1732122000@local1289ibew.org
SUMMARY:North Union Meeting (November)
DESCRIPTION:Note: December’s North Union meeting has been changed from December 18th to November 20th
URL:https://local1289ibew.org/dates/north-union-meeting-november/
LOCATION:Clinton Fire House\, 1 New Street\, Clinton\, NJ
END:VEVENT
END:VCALENDAR